BEGIN:VCALENDAR
VERSION:2.0
PRODID:-//124th Nottingham Scouts - ECPv6.15.17.1//NONSGML v1.0//EN
CALSCALE:GREGORIAN
METHOD:PUBLISH
X-ORIGINAL-URL:https://124thnottinghamscouts.org.uk
X-WR-CALDESC:Events for 124th Nottingham Scouts
REFRESH-INTERVAL;VALUE=DURATION:PT1H
X-Robots-Tag:noindex
X-PUBLISHED-TTL:PT1H
BEGIN:VTIMEZONE
TZID:Europe/London
BEGIN:DAYLIGHT
TZOFFSETFROM:+0000
TZOFFSETTO:+0100
TZNAME:BST
DTSTART:20220327T010000
END:DAYLIGHT
BEGIN:STANDARD
TZOFFSETFROM:+0100
TZOFFSETTO:+0000
TZNAME:GMT
DTSTART:20221030T010000
END:STANDARD
BEGIN:DAYLIGHT
TZOFFSETFROM:+0000
TZOFFSETTO:+0100
TZNAME:BST
DTSTART:20230326T010000
END:DAYLIGHT
BEGIN:STANDARD
TZOFFSETFROM:+0100
TZOFFSETTO:+0000
TZNAME:GMT
DTSTART:20231029T010000
END:STANDARD
BEGIN:DAYLIGHT
TZOFFSETFROM:+0000
TZOFFSETTO:+0100
TZNAME:BST
DTSTART:20240331T010000
END:DAYLIGHT
BEGIN:STANDARD
TZOFFSETFROM:+0100
TZOFFSETTO:+0000
TZNAME:GMT
DTSTART:20241027T010000
END:STANDARD
END:VTIMEZONE
BEGIN:VEVENT
DTSTART;TZID=Europe/London:20230909T180000
DTEND;TZID=Europe/London:20230909T210000
DTSTAMP:20260421T192654
CREATED:20230109T225151Z
LAST-MODIFIED:20230227T195609Z
UID:7012-1694282400-1694293200@124thnottinghamscouts.org.uk
SUMMARY:Sausage and Spud Night
DESCRIPTION:Social event for our families.  Date to be confirmed.
URL:https://124thnottinghamscouts.org.uk/event/sausage-and-spud-night/
CATEGORIES:Beavers,Group,Middleton Cubs,New,Thor Scouts,Willoughby Cubs,Woden Scouts
END:VEVENT
END:VCALENDAR